BEGIN:VCALENDAR
VERSION:2.0
PRODID:-//HADK - ECPv6.15.11//NONSGML v1.0//EN
CALSCALE:GREGORIAN
METHOD:PUBLISH
X-WR-CALNAME:HADK
X-ORIGINAL-URL:https://haflinger.dk
X-WR-CALDESC:Begivenheder for HADK
REFRESH-INTERVAL;VALUE=DURATION:PT1H
X-Robots-Tag:noindex
X-PUBLISHED-TTL:PT1H
BEGIN:VTIMEZONE
TZID:Europe/Paris
BEGIN:DAYLIGHT
TZOFFSETFROM:+0100
TZOFFSETTO:+0200
TZNAME:CEST
DTSTART:20230326T010000
END:DAYLIGHT
BEGIN:STANDARD
TZOFFSETFROM:+0200
TZOFFSETTO:+0100
TZNAME:CET
DTSTART:20231029T010000
END:STANDARD
BEGIN:DAYLIGHT
TZOFFSETFROM:+0100
TZOFFSETTO:+0200
TZNAME:CEST
DTSTART:20240331T010000
END:DAYLIGHT
BEGIN:STANDARD
TZOFFSETFROM:+0200
TZOFFSETTO:+0100
TZNAME:CET
DTSTART:20241027T010000
END:STANDARD
BEGIN:DAYLIGHT
TZOFFSETFROM:+0100
TZOFFSETTO:+0200
TZNAME:CEST
DTSTART:20250330T010000
END:DAYLIGHT
BEGIN:STANDARD
TZOFFSETFROM:+0200
TZOFFSETTO:+0100
TZNAME:CET
DTSTART:20251026T010000
END:STANDARD
END:VTIMEZONE
BEGIN:VEVENT
DTSTART;TZID=Europe/Paris:20240906T170000
DTEND;TZID=Europe/Paris:20240908T200000
DTSTAMP:20260420T050127
CREATED:20240409T102549Z
LAST-MODIFIED:20240409T102549Z
UID:2312-1725642000-1725825600@haflinger.dk
SUMMARY:Kåring\, Følskue og Plagsskue 2024
DESCRIPTION:HADK afholder den årlige kåring 6-8 september på Revsø rideklub i Sommersted i 2024 på grund af EUCH ligger i uge 34. \nSe mere information på fanen kåringen 2024
URL:https://haflinger.dk/aktiviteter/kaaring-foelskue-og-plagsskue-2024/
LOCATION:Revsø rideklub\, Revsø mark vej 2\, Sommersted\, 6065\, Danmark
CATEGORIES:Kåring
ATTACH;FMTTYPE=image/jpeg:https://haflinger.dk/wp-content/uploads/2022/12/Billede1.jpg
ORGANIZER;CN="HADK":MAILTO:Solvej_lemming@hotmail.dk
END:VEVENT
END:VCALENDAR