BEGIN:VCALENDAR
VERSION:2.0
PRODID:-//HADK - ECPv6.15.11//NONSGML v1.0//EN
CALSCALE:GREGORIAN
METHOD:PUBLISH
X-ORIGINAL-URL:https://haflinger.dk
X-WR-CALDESC:Begivenheder for HADK
REFRESH-INTERVAL;VALUE=DURATION:PT1H
X-Robots-Tag:noindex
X-PUBLISHED-TTL:PT1H
BEGIN:VTIMEZONE
TZID:Europe/Paris
BEGIN:DAYLIGHT
TZOFFSETFROM:+0100
TZOFFSETTO:+0200
TZNAME:CEST
DTSTART:20230326T010000
END:DAYLIGHT
BEGIN:STANDARD
TZOFFSETFROM:+0200
TZOFFSETTO:+0100
TZNAME:CET
DTSTART:20231029T010000
END:STANDARD
BEGIN:DAYLIGHT
TZOFFSETFROM:+0100
TZOFFSETTO:+0200
TZNAME:CEST
DTSTART:20240331T010000
END:DAYLIGHT
BEGIN:STANDARD
TZOFFSETFROM:+0200
TZOFFSETTO:+0100
TZNAME:CET
DTSTART:20241027T010000
END:STANDARD
BEGIN:DAYLIGHT
TZOFFSETFROM:+0100
TZOFFSETTO:+0200
TZNAME:CEST
DTSTART:20250330T010000
END:DAYLIGHT
BEGIN:STANDARD
TZOFFSETFROM:+0200
TZOFFSETTO:+0100
TZNAME:CET
DTSTART:20251026T010000
END:STANDARD
END:VTIMEZONE
BEGIN:VEVENT
DTSTART;VALUE=DATE:20241005
DTEND;VALUE=DATE:20241006
DTSTAMP:20260417T104510
CREATED:20240409T102901Z
LAST-MODIFIED:20240409T102901Z
UID:2314-1728086400-1728172799@haflinger.dk
SUMMARY:Materialprøve
DESCRIPTION:Formål \nFormålet med prøven er at bedømme brugsegenskaber for Haflingere. Prøven fungerer som materialprøve af avlsgodkendte hingste og for kårede hopper og kårede vallakker. \nDeltagere \nHaflingere\, som er registreret i HADK’s stambogsafsnit A eller B kan afprøves fra deres 4 leveår. Udstilleren (ejeren af hesten) skal være medlem af HADK. Kårede hopper og kårede vallakker tildeles et ”R” foran stambogsnummeret ved bestået prøve uden delkarakterer under 5. Kårede hingste opnår færdig kåring ved bestået prøve uden delkarakterer under 5. \nSted \nRevsø og Omegns Rideklub\, Sommersted og forløber over 1 dag. Det er i år den 5. oktober.
URL:https://haflinger.dk/aktiviteter/materialproeve/
LOCATION:Revsø rideklub\, Revsø mark vej 2\, Sommersted\, 6065\, Danmark
CATEGORIES:Materialprøve
ATTACH;FMTTYPE=image/jpeg:https://haflinger.dk/wp-content/uploads/2023/10/winterstar.jpg
ORGANIZER;CN="HADK":MAILTO:Solvej_lemming@hotmail.dk
END:VEVENT
BEGIN:VEVENT
DTSTART;TZID=Europe/Paris:20241005T080000
DTEND;TZID=Europe/Paris:20241006T190000
DTSTAMP:20260417T104510
CREATED:20240409T103349Z
LAST-MODIFIED:20240409T103349Z
UID:2316-1728115200-1728241200@haflinger.dk
SUMMARY:Haflinger championat 2024
DESCRIPTION:Årets championat bliver afholdt i fællesskab med DTH. \nDet bliver afholdt på Revsø rideklub igen i år. \n5-6 oktober med gangartsklasser\, dressur og springning. \nMere information følger
URL:https://haflinger.dk/aktiviteter/haflinger-championat-2024/
LOCATION:Revsø rideklub\, Revsø mark vej 2\, Sommersted\, 6065\, Danmark
CATEGORIES:Ridning
ATTACH;FMTTYPE=image/jpeg:https://haflinger.dk/wp-content/uploads/2023/09/269936422_947108649559584_1023401885342692069_n.jpg
ORGANIZER;CN="HADK":MAILTO:Solvej_lemming@hotmail.dk
END:VEVENT
END:VCALENDAR