BEGIN:VCALENDAR
VERSION:2.0
PRODID:-//HADK - ECPv6.15.11//NONSGML v1.0//EN
CALSCALE:GREGORIAN
METHOD:PUBLISH
X-WR-CALNAME:HADK
X-ORIGINAL-URL:https://haflinger.dk
X-WR-CALDESC:Begivenheder for HADK
REFRESH-INTERVAL;VALUE=DURATION:PT1H
X-Robots-Tag:noindex
X-PUBLISHED-TTL:PT1H
BEGIN:VTIMEZONE
TZID:Europe/Paris
BEGIN:DAYLIGHT
TZOFFSETFROM:+0100
TZOFFSETTO:+0200
TZNAME:CEST
DTSTART:20240331T010000
END:DAYLIGHT
BEGIN:STANDARD
TZOFFSETFROM:+0200
TZOFFSETTO:+0100
TZNAME:CET
DTSTART:20241027T010000
END:STANDARD
BEGIN:DAYLIGHT
TZOFFSETFROM:+0100
TZOFFSETTO:+0200
TZNAME:CEST
DTSTART:20250330T010000
END:DAYLIGHT
BEGIN:STANDARD
TZOFFSETFROM:+0200
TZOFFSETTO:+0100
TZNAME:CET
DTSTART:20251026T010000
END:STANDARD
BEGIN:DAYLIGHT
TZOFFSETFROM:+0100
TZOFFSETTO:+0200
TZNAME:CEST
DTSTART:20260329T010000
END:DAYLIGHT
BEGIN:STANDARD
TZOFFSETFROM:+0200
TZOFFSETTO:+0100
TZNAME:CET
DTSTART:20261025T010000
END:STANDARD
END:VTIMEZONE
BEGIN:VEVENT
DTSTART;TZID=Europe/Paris:20250821T160000
DTEND;TZID=Europe/Paris:20250824T220000
DTSTAMP:20260420T001820
CREATED:20240913T102027Z
LAST-MODIFIED:20240913T102027Z
UID:2375-1755792000-1756072800@haflinger.dk
SUMMARY:Kåring 2025
DESCRIPTION:Mere information kommer når vi kommer tættere på
URL:https://haflinger.dk/aktiviteter/kaaring-2025/
CATEGORIES:Kåring,Plagskue
ATTACH;FMTTYPE=image/jpeg:https://haflinger.dk/wp-content/uploads/2024/09/baand-scaled.jpg
END:VEVENT
END:VCALENDAR