BEGIN:VCALENDAR
VERSION:2.0
PRODID:-//HADK - ECPv6.15.11//NONSGML v1.0//EN
CALSCALE:GREGORIAN
METHOD:PUBLISH
X-WR-CALNAME:HADK
X-ORIGINAL-URL:https://haflinger.dk
X-WR-CALDESC:Begivenheder for HADK
REFRESH-INTERVAL;VALUE=DURATION:PT1H
X-Robots-Tag:noindex
X-PUBLISHED-TTL:PT1H
BEGIN:VTIMEZONE
TZID:Europe/Paris
BEGIN:DAYLIGHT
TZOFFSETFROM:+0100
TZOFFSETTO:+0200
TZNAME:CEST
DTSTART:20200329T010000
END:DAYLIGHT
BEGIN:STANDARD
TZOFFSETFROM:+0200
TZOFFSETTO:+0100
TZNAME:CET
DTSTART:20201025T010000
END:STANDARD
BEGIN:DAYLIGHT
TZOFFSETFROM:+0100
TZOFFSETTO:+0200
TZNAME:CEST
DTSTART:20210328T010000
END:DAYLIGHT
BEGIN:STANDARD
TZOFFSETFROM:+0200
TZOFFSETTO:+0100
TZNAME:CET
DTSTART:20211031T010000
END:STANDARD
BEGIN:DAYLIGHT
TZOFFSETFROM:+0100
TZOFFSETTO:+0200
TZNAME:CEST
DTSTART:20220327T010000
END:DAYLIGHT
BEGIN:STANDARD
TZOFFSETFROM:+0200
TZOFFSETTO:+0100
TZNAME:CET
DTSTART:20221030T010000
END:STANDARD
END:VTIMEZONE
BEGIN:VEVENT
DTSTART;TZID=Europe/Paris:20210806T150000
DTEND;TZID=Europe/Paris:20210808T210000
DTSTAMP:20260422T234844
CREATED:20210107T091516Z
LAST-MODIFIED:20210107T100911Z
UID:1632-1628262000-1628456400@haflinger.dk
SUMMARY:Kåring\, føl og plagskue 2021
DESCRIPTION:HADK afholder sin årlige kåring med føl og plagskue den 6-8. August 2021 på Revsø Rideklub ved Sommersted. \n  \nDer bliver forventet sidste tilmelding 16.7.2021 \n  \nFlere informationer vil komme løbende. \n  \nFølg også med på Facebook begivenheden: https://www.facebook.com/events/2976453742577736/
URL:https://haflinger.dk/aktiviteter/kaaring-foel-og-plagskue-2021/
LOCATION:Revsø rideklub\, Revsø mark vej 2\, Sommersted\, 6065\, Danmark
CATEGORIES:Kåring
ORGANIZER;CN="HADK":MAILTO:Solvej_lemming@hotmail.dk
END:VEVENT
END:VCALENDAR